BEGIN:VCALENDAR
VERSION:2.0
PRODID:-//https://discovercampania.com///NONSGML kigkonsult.se iCalcreator 2.10.15//
METHOD:PUBLISH
BEGIN:VEVENT
UID:20260421T203941CEST-5022ko4FwJ@https://discovercampania.com/
DTSTAMP:20260421T183941Z
DESCRIPTION: https://discovercampania.com/calendario-eventi/Evento/1450-ves
 uvio-sotto-le-stelle-r
DTSTART:20240606T105400Z
DTEND:20240909T215400Z
LOCATION:Parco Nazionale de Vesuvio  (Sentiero del Gran Cono\, 80056 Ercola
 no NA\, Italia)
SUMMARY:Vesuvio Sotto le Stelle ® 
URL:https://discovercampania.com/calendario-eventi/Evento/1450-vesuvio-sott
 o-le-stelle-r
END:VEVENT
END:VCALENDAR
