BEGIN:VCALENDAR
VERSION:2.0
PRODID:-//https://discovercampania.com///NONSGML kigkonsult.se iCalcreator 2.10.15//
METHOD:PUBLISH
BEGIN:VEVENT
UID:20260422T062044CEST-1240A6KlAC@https://discovercampania.com/
DTSTAMP:20260422T042044Z
DESCRIPTION:Durante la campagna di scavo in corso nella Villa di Poppea a O
 plontis\, eccezionalmente ogni giovedì dalle ore 10.30 alle 12.00\,i visit
 atori con biglietto di ingresso all'area archeologica\, in piccoli gruppi 
 guidati\,&nbsp\;saranno ammessi in una parte del sito ancora oggetto di in
 dagine\, per ammirare da vicino i meravigliosi affreschi riemersi in loco\
 , mentre si sta procedendo al loro restauro\, e osservare le attività degl
 i archeologi e quanto sta riemergendo della grande villa di Poppea\, sepol
 ta dai materiali vulcanici dell'eruzione del 79 d.C. https://discovercampa
 nia.com/en/events-calendar/calendario-eventi/event/1645-il-nuovo-scavo-del
 la-villa-di-poppea-a-oplontis
DTSTART:20260212T093000Z
DTEND:20260528T103000Z
LOCATION:Vialla di Poppea\, Via Sepolcri - Torre Annunziata (via Sepolcri)
SUMMARY:Il nuovo scavo della Villa di Poppea a Oplontis
URL:https://discovercampania.com/en/events-calendar/calendario-eventi/event
 /1645-il-nuovo-scavo-della-villa-di-poppea-a-oplontis
END:VEVENT
BEGIN:VEVENT
UID:20260422T062044CEST-1245CsUZlU@https://discovercampania.com/
DTSTAMP:20260422T042044Z
DESCRIPTION:Al Museo Archeologico Nazionale di Napoli una grande\, imperdib
 ile mostra dedicata alla Sirena Parthenope\, al mito legato alla fondazion
 e della città e al suo significato in ogni fase della sua ultramillenaria 
 storia. Oltre 250 reperti di assoluto valore\, provenienti da 40 musei e c
 ollezioni europei e americani. Con un allestimento valorizzato da realtà a
 umentata\, contenuti digitali e elementi interattivi. Fino al 6 luglio\, n
 egli orari di apertura del Museo. https://discovercampania.com/en/events-c
 alendar/calendario-eventi/event/1654-parthenope-la-sirena-e-la-citta
DTSTART:20260403T073000Z
DTEND:20260706T173000Z
LOCATION:Museo Archeologico Nazionale di Napoli MANN- Piazza Museo (Piazza 
 Museo\, 19\, 80135 Napoli NA\, Italia)
SUMMARY:Parthenope. La Sirena e la città
URL:https://discovercampania.com/en/events-calendar/calendario-eventi/event
 /1654-parthenope-la-sirena-e-la-citta
END:VEVENT
BEGIN:VEVENT
UID:20260422T062044CEST-1250RaeFrj@https://discovercampania.com/
DTSTAMP:20260422T042044Z
DESCRIPTION:Al Museo Nazionale Ferroviario di Pietrarsa la straordinaria co
 llezione di carrozze e locomotive ferroviarie storiche fa da speciale scen
 ografia alla mostra di prestigiose automobili d'epoca\, con modelli che ha
 nno fatto la storia dell'auto italiana nel Novecento e automobili legate a
  personalità e vicende di particolare rilievo e interesse. Numerose automo
 bili appartengono all'importante Collezione Lopresto https://discovercampa
 nia.com/en/events-calendar/calendario-eventi/event/1655-vintage-vibes-pass
 ioni-su-ruote
DTSTART:20260402T140000Z
DTEND:20260517T173000Z
LOCATION:Museo Ferroviario di Pietrarsa - Traversa Pietrarsa (Via Pietrarsa
 \, 16\, 80146 Napoli NA\, Italia)
SUMMARY:Vintage vibes: Passioni su Ruote
URL:https://discovercampania.com/en/events-calendar/calendario-eventi/event
 /1655-vintage-vibes-passioni-su-ruote
END:VEVENT
BEGIN:VEVENT
UID:20260422T062044CEST-1253nWs4rd@https://discovercampania.com/
DTSTAMP:20260422T042044Z
DESCRIPTION:A Napoli\, nella storica Villa Pignatelli\, cento opere\, prove
 nienti dai più prestifiosi musei e collezioni del mondo\, propongono un in
 trigante confronto tra l'opera e le personalità di due artisti contemporan
 ei come Andy Warhol e Bansky\, utilizzando con filo rosso tra i due i risp
 ettivi soggiorni nella città di Partenope. https://discovercampania.com/en
 /events-calendar/calendario-eventi/event/1659-warhol-vs-bansky-passaggio-a
 -napoli
DTSTART:20260122T080000Z
DTEND:20260602T170000Z
LOCATION:P.za Municipio\, 80133 Napoli NA\, Italia (P.za Municipio\, 80133 
 Napoli NA\, Italia)
SUMMARY:Warhol vs Bansky. Passaggio a Napoli
URL:https://discovercampania.com/en/events-calendar/calendario-eventi/event
 /1659-warhol-vs-bansky-passaggio-a-napoli
END:VEVENT
END:VCALENDAR
