BEGIN:VCALENDAR
VERSION:2.0
PRODID:-//https://discovercampania.com///NONSGML kigkonsult.se iCalcreator 2.10.15//
METHOD:PUBLISH
BEGIN:VEVENT
UID:20260421T190737CEST-9266Z3iH4U@https://discovercampania.com/
DTSTAMP:20260421T170737Z
DESCRIPTION:Incontri su archeologia e paesaggio \nSabato 8 luglio ore 19:00
 \nBIZANTINI: Luoghi\, simboli e comunità di un impero millenario https://d
 iscovercampania.com/en/events-calendar/event/1130-progetto-kepos
DTSTART:20230708T160000Z
DTEND:20230708T210000Z
LOCATION:Giardini la Mortella\, Ischia (Giardini La Mortella\, Via Francesc
 o Calise Operaio Foriano\, 45\, 80075 Forio NA\, Italia)
SUMMARY:Progetto Kepos
URL:https://discovercampania.com/en/events-calendar/event/1130-progetto-kep
 os
END:VEVENT
END:VCALENDAR
