BEGIN:VCALENDAR
VERSION:2.0
PRODID:-//https://discovercampania.com///NONSGML kigkonsult.se iCalcreator 2.10.15//
METHOD:PUBLISH
BEGIN:VEVENT
UID:20260421T172243CEST-8847iTlN8c@https://discovercampania.com/
DTSTAMP:20260421T152243Z
DESCRIPTION: https://discovercampania.com/en/events-calendar/event/1204-ama
 napoli-quarta-edizione
DTSTART:20230828T191500Z
DTEND:20230828T215900Z
LOCATION:NAPOLI – Maschio Angioino (Via Vittorio Emanuele III\, 80133 Napol
 i NA\, Italia)
SUMMARY:Amanapoli (quarta edizione)
URL:https://discovercampania.com/en/events-calendar/event/1204-amanapoli-qu
 arta-edizione
END:VEVENT
END:VCALENDAR
