BEGIN:VCALENDAR
VERSION:2.0
PRODID:-//https://discovercampania.com///NONSGML kigkonsult.se iCalcreator 2.10.15//
METHOD:PUBLISH
BEGIN:VEVENT
UID:20260421T202447CEST-9509Fn6jZX@https://discovercampania.com/
DTSTAMP:20260421T182447Z
DESCRIPTION: https://discovercampania.com/en/events-calendar/event/1206-ras
 segna-amuleti
DTSTART:20230830T190000Z
DTEND:20230831T215800Z
LOCATION:NAPOLI – Maschio Angioino (Via Vittorio Emanuele III\, 80133 Napol
 i NA\, Italia)
SUMMARY: Rassegna “Amuleti”
URL:https://discovercampania.com/en/events-calendar/event/1206-rassegna-amu
 leti
END:VEVENT
END:VCALENDAR
