BEGIN:VCALENDAR
VERSION:2.0
PRODID:-//https://discovercampania.com///NONSGML kigkonsult.se iCalcreator 2.10.15//
METHOD:PUBLISH
BEGIN:VEVENT
UID:20260421T191114CEST-2620RoeziU@https://discovercampania.com/
DTSTAMP:20260421T171114Z
DESCRIPTION: https://discovercampania.com/en/events-calendar/event/1223-cap
 odanno-bizantino-2023
DTSTART:20230831T160000Z
DTEND:20230902T215900Z
LOCATION:84011 Amalfi SA\, Italia (84011 Amalfi SA\, Italia)
SUMMARY:Capodanno Bizantino 2023
URL:https://discovercampania.com/en/events-calendar/event/1223-capodanno-bi
 zantino-2023
END:VEVENT
END:VCALENDAR
