BEGIN:VCALENDAR
VERSION:2.0
PRODID:-//https://discovercampania.com///NONSGML kigkonsult.se iCalcreator 2.10.15//
METHOD:PUBLISH
BEGIN:VEVENT
UID:20260421T172108CEST-79006G9Wlt@https://discovercampania.com/
DTSTAMP:20260421T152108Z
DESCRIPTION:Una giornata ricca di eventi\, tra danza e magia. Un' occasione
  per visitare la raccolta libraria della Biblioteca Nazionale di Napoli ht
 tps://discovercampania.com/en/events-calendar/event/1288-domenica-di-carta
DTSTART:20231008T080000Z
DTEND:20231008T130000Z
LOCATION:Biblioteca nazionale di Napoli (Piazza del Plebiscito\, 1\, 80132 
 Napoli NA\, Italia)
SUMMARY:Domenica di Carta 
URL:https://discovercampania.com/en/events-calendar/event/1288-domenica-di-
 carta
END:VEVENT
END:VCALENDAR
