BEGIN:VCALENDAR
VERSION:2.0
PRODID:-//https://discovercampania.com///NONSGML kigkonsult.se iCalcreator 2.10.15//
METHOD:PUBLISH
BEGIN:VEVENT
UID:20260421T202507CEST-6134Cf2FCz@https://discovercampania.com/
DTSTAMP:20260421T182507Z
DESCRIPTION:Da giovedì 12 a domenica 15 ottobre 2023\nAppuntamento con la p
 iù antica delle tante sagre dedicate al frutto simbolo dell’autunno irpino
 \, la castagna\, nel comprensorio con la maggiore produzione castanicola d
 ella Campania. Per tutto il week end saranno protagonisti con le castagne 
 i prodotti tipici e le ricette della tradizione irpina. https://discoverca
 mpania.com/en/events-calendar/event/1300-sagra-della-castagna-igp
DTSTART:20231012T140200Z
DTEND:20231015T160200Z
LOCATION:Ribottoli\, 83028 Serino AV\, Italia (Ribottoli\, 83028 Serino AV\
 , Italia)
SUMMARY:Sagra della Castagna IGP
URL:https://discovercampania.com/en/events-calendar/event/1300-sagra-della-
 castagna-igp
END:VEVENT
END:VCALENDAR
