BEGIN:VCALENDAR
VERSION:2.0
PRODID:-//https://discovercampania.com///NONSGML kigkonsult.se iCalcreator 2.10.15//
METHOD:PUBLISH
BEGIN:VEVENT
UID:20260421T223209CEST-9357R2xmhU@https://discovercampania.com/
DTSTAMP:20260421T203209Z
DESCRIPTION:Dal 1 al 5 novembre cinque giorni di festa a Vitulano per la 30
 a Sagra della Castagna e Festa de Pecorino Vitulanese. Protagonista la cas
 tagna come regina della festa con tanti dolci\, primi piatti\, caldarroste
  e tanto altro ancora. https://discovercampania.com/en/events-calendar/eve
 nt/1327-sagra-della-castagna-e-festa-de-pecorino-a-vitulano
DTSTART:20231101T110400Z
DTEND:20231105T130400Z
LOCATION:82038 Vitulano BN\, Italia (82038 Vitulano BN\, Italia)
SUMMARY: Sagra della Castagna e Festa de Pecorino a Vitulano
URL:https://discovercampania.com/en/events-calendar/event/1327-sagra-della-
 castagna-e-festa-de-pecorino-a-vitulano
END:VEVENT
END:VCALENDAR
