BEGIN:VCALENDAR
VERSION:2.0
PRODID:-//https://discovercampania.com///NONSGML kigkonsult.se iCalcreator 2.10.15//
METHOD:PUBLISH
BEGIN:VEVENT
UID:20260421T190951CEST-4154VvMnLu@https://discovercampania.com/
DTSTAMP:20260421T170951Z
DESCRIPTION:Tantissimi stand di aziende provenienti da tutta Italia\, dove 
 potrete assaggiare varie tipologie di cioccolato\, il tutto condito da pre
 sentazioni\, intrattenimento e show cooking https://discovercampania.com/e
 n/events-calendar/event/1331-chocoland-la-terra-dei-golosi
DTSTART:20231115T090000Z
DTEND:20231119T180000Z
LOCATION:P.za Municipio\, 80133 Napoli NA\, Italia (P.za Municipio\, 80133 
 Napoli NA\, Italia)
SUMMARY:Chocoland -  La Terra dei Golosi
URL:https://discovercampania.com/en/events-calendar/event/1331-chocoland-la
 -terra-dei-golosi
END:VEVENT
END:VCALENDAR
