BEGIN:VCALENDAR
VERSION:2.0
PRODID:-//https://discovercampania.com///NONSGML kigkonsult.se iCalcreator 2.10.15//
METHOD:PUBLISH
BEGIN:VEVENT
UID:20260421T202429CEST-9185x0VvmV@https://discovercampania.com/
DTSTAMP:20260421T182429Z
DESCRIPTION:Il progetto è visitabile nella sala di Napulitana\, sotto i por
 tici della Galleria Principe\, per onorare Enrico Caruso a 150 anni dall s
 ua nascita. https://discovercampania.com/en/events-calendar/event/1336-mad
 e-in-caruso
DTSTART:20231101T093000Z
DTEND:20231231T190000Z
LOCATION:Galleria Principe di Napoli (Via Broggia\, 7\, 80135 Napoli NA\, I
 talia)
SUMMARY:Made in Caruso
URL:https://discovercampania.com/en/events-calendar/event/1336-made-in-caru
 so
END:VEVENT
END:VCALENDAR
