BEGIN:VCALENDAR
VERSION:2.0
PRODID:-//https://discovercampania.com///NONSGML kigkonsult.se iCalcreator 2.10.15//
METHOD:PUBLISH
BEGIN:VEVENT
UID:20260421T202453CEST-0578Rc4pdL@https://discovercampania.com/
DTSTAMP:20260421T182453Z
DESCRIPTION:20 anni di Fiesta\, il primo spettacolo teatrale dell’artista n
 apoletano che Siani ha deciso di riscrivere\, rendere attuale e moderno\, 
 per rivivere le stesse emozioni con la sua gente di Napoli. https://discov
 ercampania.com/en/events-calendar/event/1348-alessandro-siani-fiesta
DTSTART:20231225T203000Z
DTEND:20240106T223000Z
LOCATION:Teatro Diana (Via Luca Giordano\, 64\, 80127 Napoli NA\, Italia)
SUMMARY:Alessandro Siani - Fiesta
URL:https://discovercampania.com/en/events-calendar/event/1348-alessandro-s
 iani-fiesta
END:VEVENT
END:VCALENDAR
