BEGIN:VCALENDAR
VERSION:2.0
PRODID:-//https://discovercampania.com///NONSGML kigkonsult.se iCalcreator 2.10.15//
METHOD:PUBLISH
BEGIN:VEVENT
UID:20260421T190736CEST-5635hPMnnC@https://discovercampania.com/
DTSTAMP:20260421T170736Z
DESCRIPTION: https://discovercampania.com/en/events-calendar/event/1352-don
 -chisciotte
DTSTART:20231223T200000Z
DTEND:20240104T224300Z
LOCATION:San Carlo Napoli (Napoli NA\, Italia)
SUMMARY:Don Chisciotte 
URL:https://discovercampania.com/en/events-calendar/event/1352-don-chisciot
 te
END:VEVENT
END:VCALENDAR
