BEGIN:VCALENDAR
VERSION:2.0
PRODID:-//https://discovercampania.com///NONSGML kigkonsult.se iCalcreator 2.10.15//
METHOD:PUBLISH
BEGIN:VEVENT
UID:20260421T223505CEST-0101LFUcF8@https://discovercampania.com/
DTSTAMP:20260421T203505Z
DESCRIPTION:ex-voto e migliaia di monete ritrovate nel santuario termale et
 rusco e romano del Bagno Grande a San Casciano dei Bagni\, testimonianze s
 traordinarie che permettono di ricostruire i rituali e i culti delle divin
 ità venerate nel territorio. https://discovercampania.com/en/events-calend
 ar/event/1372-gli-dei-ritornano-i-bronzi-di-san-casciano
DTSTART:20240216T123000Z
DTEND:20240630T160000Z
LOCATION:Museo Archeologico Nazionale di Napoli MANN- Piazza Museo (Piazza 
 Museo\, 19\, 80135 Napoli NA\, Italia)
SUMMARY:Gli Dei ritornano. I bronzi di San Casciano
URL:https://discovercampania.com/en/events-calendar/event/1372-gli-dei-rito
 rnano-i-bronzi-di-san-casciano
END:VEVENT
END:VCALENDAR
