BEGIN:VCALENDAR
VERSION:2.0
PRODID:-//https://discovercampania.com///NONSGML kigkonsult.se iCalcreator 2.10.15//
METHOD:PUBLISH
BEGIN:VEVENT
UID:20260421T191444CEST-2011iESUcf@https://discovercampania.com/
DTSTAMP:20260421T171444Z
DESCRIPTION:liberando fantasia e creatività nel segno di un mondo ricco di 
 colori ed emozioni senza età. https://discovercampania.com/en/events-calen
 dar/event/1381-brick-live-ocean-napoli-il-tuo-mondo-lego
DTSTART:20240315T080000Z
DTEND:20240414T200000Z
LOCATION:Mostra d’Oltremare\, Napoli (Viale John Fitzgerald Kennedy\, 54\, 
 80125 Napoli NA\, Italia)
SUMMARY:Brick Live - Ocean Napoli - Il tuo mondo LEGO
URL:https://discovercampania.com/en/events-calendar/event/1381-brick-live-o
 cean-napoli-il-tuo-mondo-lego
END:VEVENT
END:VCALENDAR
