BEGIN:VCALENDAR
VERSION:2.0
PRODID:-//https://discovercampania.com///NONSGML kigkonsult.se iCalcreator 2.10.15//
METHOD:PUBLISH
BEGIN:VEVENT
UID:20260421T191029CEST-1268wSV5UU@https://discovercampania.com/
DTSTAMP:20260421T171029Z
DESCRIPTION:&nbsp\;per gustare tante specialità a base dei carciofi IGP di 
 Paestum https://discovercampania.com/en/events-calendar/event/1403-festa-d
 el-carciofo-igp
DTSTART:20240425T095800Z
DTEND:20240428T215800Z
LOCATION:84047 Paestum SA\, Italia (84047 Paestum SA\, Italia)
SUMMARY:Festa del Carciofo IGP
URL:https://discovercampania.com/en/events-calendar/event/1403-festa-del-ca
 rciofo-igp
END:VEVENT
END:VCALENDAR
