BEGIN:VCALENDAR
VERSION:2.0
PRODID:-//https://discovercampania.com///NONSGML kigkonsult.se iCalcreator 2.10.15//
METHOD:PUBLISH
BEGIN:VEVENT
UID:20260421T173945CEST-2184aB3FLc@https://discovercampania.com/
DTSTAMP:20260421T153945Z
DESCRIPTION:condite da animazione e intrattenimento https://discovercampani
 a.com/en/events-calendar/event/1404-festa-della-birra
DTSTART:20240427T102300Z
DTEND:20240428T212300Z
LOCATION:Villa di Briano (81030 Villa di Briano CE\, Italia)
SUMMARY:Festa della Birra
URL:https://discovercampania.com/en/events-calendar/event/1404-festa-della-
 birra
END:VEVENT
END:VCALENDAR
