BEGIN:VCALENDAR
VERSION:2.0
PRODID:-//https://discovercampania.com///NONSGML kigkonsult.se iCalcreator 2.10.15//
METHOD:PUBLISH
BEGIN:VEVENT
UID:20260421T204632CEST-7186t37DWe@https://discovercampania.com/
DTSTAMP:20260421T184632Z
DESCRIPTION:&nbsp\;con&nbsp\;un programma ricco di attività e intrattenimen
 to. https://discovercampania.com/en/events-calendar/event/1413-festa-dei-c
 olori-e-sapori-della-campania
DTSTART:20240503T161000Z
DTEND:20240505T211000Z
LOCATION:San Giorgio a Cremano (80046 San Giorgio a Cremano NA\, Italia)
SUMMARY:Festa dei colori e sapori della Campania 
URL:https://discovercampania.com/en/events-calendar/event/1413-festa-dei-co
 lori-e-sapori-della-campania
END:VEVENT
END:VCALENDAR
