BEGIN:VCALENDAR
VERSION:2.0
PRODID:-//https://discovercampania.com///NONSGML kigkonsult.se iCalcreator 2.10.15//
METHOD:PUBLISH
BEGIN:VEVENT
UID:20260421T185413CEST-5869L3Zx6g@https://discovercampania.com/
DTSTAMP:20260421T165413Z
DESCRIPTION:elaborati e cucinati al momento dai nostri migliori ristoratori
  utilizzando i carciofi da piccoli produttori locali&nbsp\; https://discov
 ercampania.com/en/events-calendar/event/1415-sagra-del-carciofo-bianco
DTSTART:20240503T170000Z
DTEND:20240505T190000Z
LOCATION:Petrosa (84052 Petrosa SA\, Italia)
SUMMARY:Sagra del carciofo bianco 
URL:https://discovercampania.com/en/events-calendar/event/1415-sagra-del-ca
 rciofo-bianco
END:VEVENT
END:VCALENDAR
