BEGIN:VCALENDAR
VERSION:2.0
PRODID:-//https://discovercampania.com///NONSGML kigkonsult.se iCalcreator 2.10.15//
METHOD:PUBLISH
BEGIN:VEVENT
UID:20260421T190921CEST-8700XUtX0S@https://discovercampania.com/
DTSTAMP:20260421T170921Z
DESCRIPTION:La città di Sorrento diventerà capitale internazionale della ve
 la con tante imbarcazioni che saranno ormeggiate nella Marina Piccola di S
 orrento. https://discovercampania.com/en/events-calendar/event/1420-tre-go
 lfi-sailing-week-2024
DTSTART:20240508T085500Z
DTEND:20240524T105500Z
LOCATION:80067 Sorrento NA\, Italia (80067 Sorrento NA\, Italia)
SUMMARY:Tre Golfi Sailing Week 2024
URL:https://discovercampania.com/en/events-calendar/event/1420-tre-golfi-sa
 iling-week-2024
END:VEVENT
END:VCALENDAR
