BEGIN:VCALENDAR
VERSION:2.0
PRODID:-//https://discovercampania.com///NONSGML kigkonsult.se iCalcreator 2.10.15//
METHOD:PUBLISH
BEGIN:VEVENT
UID:20260421T171817CEST-32000shJ6u@https://discovercampania.com/
DTSTAMP:20260421T151817Z
DESCRIPTION: https://discovercampania.com/en/events-calendar/event/1421-gra
 gnano-da-bere
DTSTART:20240519T102400Z
DTEND:20240520T210000Z
LOCATION:80054 Gragnano NA\, Italia (80054 Gragnano NA\, Italia)
SUMMARY:Gragnano da bere
URL:https://discovercampania.com/en/events-calendar/event/1421-gragnano-da-
 bere
END:VEVENT
END:VCALENDAR
