BEGIN:VCALENDAR
VERSION:2.0
PRODID:-//https://discovercampania.com///NONSGML kigkonsult.se iCalcreator 2.10.15//
METHOD:PUBLISH
BEGIN:VEVENT
UID:20260421T190735CEST-9581VhpjI7@https://discovercampania.com/
DTSTAMP:20260421T170735Z
DESCRIPTION:una emozionante caccia al tesoro notturna tra giardino\, stagno
  e aree museali. Seguiranno osservazione delle stelle e pernottamento nann
 a nel pelo sotto il cielo stellato del Planetario\, offrendo un'esperienza
  unica ed emozionante per i piccoli aspiranti scienziati!  https://discove
 rcampania.com/en/events-calendar/event/1428-notte-al-museo
DTSTART:20240628T170000Z
DTEND:20240629T215000Z
LOCATION:Città della Scienza  (Via Coroglio\, 57/104\, 80124 Napoli NA\, It
 alia)
SUMMARY:Notte al Museo
URL:https://discovercampania.com/en/events-calendar/event/1428-notte-al-mus
 eo
END:VEVENT
END:VCALENDAR
