BEGIN:VCALENDAR
VERSION:2.0
PRODID:-//https://discovercampania.com///NONSGML kigkonsult.se iCalcreator 2.10.15//
METHOD:PUBLISH
BEGIN:VEVENT
UID:20260421T202602CEST-8679MSvHcz@https://discovercampania.com/
DTSTAMP:20260421T182602Z
DESCRIPTION:narrando uno dei più amati classici della letteratura: Alice ne
 l paese delle Meraviglie. Per maggiori info\, consultare il sito www.thisi
 swonderland.world   https://discovercampania.com/en/events-calendar/event/
 1430-this-is-wonderland
DTSTART:20240601T170000Z
DTEND:20240630T215000Z
LOCATION:Mostra d'Oltremare (Viale John Fitzgerald Kennedy\, 54\, 80125 Nap
 oli NA\, Italia)
SUMMARY:This is Wonderland 
URL:https://discovercampania.com/en/events-calendar/event/1430-this-is-wond
 erland
END:VEVENT
END:VCALENDAR
