BEGIN:VCALENDAR
VERSION:2.0
PRODID:-//https://discovercampania.com///NONSGML kigkonsult.se iCalcreator 2.10.15//
METHOD:PUBLISH
BEGIN:VEVENT
UID:20260421T190110CEST-0039u5FsNs@https://discovercampania.com/
DTSTAMP:20260421T170110Z
DESCRIPTION: https://discovercampania.com/en/events-calendar/event/1434-in-
 a-time-lapse-ludovico-einaudi
DTSTART:20240712T190000Z
DTEND:20240712T213500Z
LOCATION:Parco Archeologico di Pompei – via Plinio (Via Plinio\, 26\, 80045
  Pompei NA\, Italia)
SUMMARY:In a Time Lapse - Ludovico Einaudi 
URL:https://discovercampania.com/en/events-calendar/event/1434-in-a-time-la
 pse-ludovico-einaudi
END:VEVENT
END:VCALENDAR
