BEGIN:VCALENDAR
VERSION:2.0
PRODID:-//https://discovercampania.com///NONSGML kigkonsult.se iCalcreator 2.10.15//
METHOD:PUBLISH
BEGIN:VEVENT
UID:20260421T223413CEST-7618spvldC@https://discovercampania.com/
DTSTAMP:20260421T203413Z
DESCRIPTION: https://discovercampania.com/en/events-calendar/event/1436-lal
 tra-pompei-vite-comuni-allombra-del-vesuvio
DTSTART:20240615T090000Z
DTEND:20241212T220600Z
LOCATION:Parco Archeologico di Pompei – via Plinio (Via Plinio\, 26\, 80045
  Pompei NA\, Italia)
SUMMARY:L’altra Pompei. Vite comuni all’ombra del Vesuvio 
URL:https://discovercampania.com/en/events-calendar/event/1436-laltra-pompe
 i-vite-comuni-allombra-del-vesuvio
END:VEVENT
END:VCALENDAR
