BEGIN:VCALENDAR
VERSION:2.0
PRODID:-//https://discovercampania.com///NONSGML kigkonsult.se iCalcreator 2.10.15//
METHOD:PUBLISH
BEGIN:VEVENT
UID:20260421T185826CEST-9904DAzsgi@https://discovercampania.com/
DTSTAMP:20260421T165826Z
DESCRIPTION: https://discovercampania.com/en/events-calendar/event/1447-bri
 vidi-destate
DTSTART:20240726T190000Z
DTEND:20240728T210000Z
LOCATION:Real Orto Botanico di Napoli – via Foria (Orto Botanico di Napoli\
 , Via Foria\, 223\, 80139 Napoli NA\, Italia)
SUMMARY:Brividi D'Estate 
URL:https://discovercampania.com/en/events-calendar/event/1447-brividi-dest
 ate
END:VEVENT
END:VCALENDAR
