BEGIN:VCALENDAR
VERSION:2.0
PRODID:-//https://discovercampania.com///NONSGML kigkonsult.se iCalcreator 2.10.15//
METHOD:PUBLISH
BEGIN:VEVENT
UID:20260421T190109CEST-82072xjlpn@https://discovercampania.com/
DTSTAMP:20260421T170109Z
DESCRIPTION:Biglietti:&nbsp\;Disponibili su&nbsp\;TicketOne&nbsp\;&nbsp\; h
 ttps://discovercampania.com/en/events-calendar/event/1465-fiorella-sinfoni
 ca---live-con-orchestra
DTSTART:20241105T200000Z
DTEND:20241106T224600Z
LOCATION:Teatro Augusteo (Piazzetta Duca D'Aosta\, 263\, 80132 Napoli NA\, 
 Italia)
SUMMARY:Fiorella Sinfonica – Live con orchestra
URL:https://discovercampania.com/en/events-calendar/event/1465-fiorella-sin
 fonica---live-con-orchestra
END:VEVENT
END:VCALENDAR
