BEGIN:VCALENDAR
VERSION:2.0
PRODID:-//https://discovercampania.com///NONSGML kigkonsult.se iCalcreator 2.10.15//
METHOD:PUBLISH
BEGIN:VEVENT
UID:20260421T192738CEST-07174FT1u2@https://discovercampania.com/
DTSTAMP:20260421T172738Z
DESCRIPTION: https://discovercampania.com/en/events-calendar/event/1470-11-
 sagra-della-castagna-e-della-nocciola
DTSTART:20241011T083500Z
DTEND:20241020T203500Z
LOCATION:Avella – Avellino (83021 Avella AV\, Italia)
SUMMARY:11^ Sagra della Castagna e della Nocciola
URL:https://discovercampania.com/en/events-calendar/event/1470-11-sagra-del
 la-castagna-e-della-nocciola
END:VEVENT
END:VCALENDAR
