BEGIN:VCALENDAR
VERSION:2.0
PRODID:-//https://discovercampania.com///NONSGML kigkonsult.se iCalcreator 2.10.15//
METHOD:PUBLISH
BEGIN:VEVENT
UID:20260421T174604CEST-0811IfC1m4@https://discovercampania.com/
DTSTAMP:20260421T154604Z
DESCRIPTION: https://discovercampania.com/en/events-calendar/event/1472-fes
 ta-del-cioccolato-artigianale
DTSTART:20241018T080000Z
DTEND:20241020T200000Z
LOCATION:Aversa - Via Roma (Via Roma\, 81031 Aversa CE\, Italia)
SUMMARY:FESTA DEL CIOCCOLATO ARTIGIANALE 
URL:https://discovercampania.com/en/events-calendar/event/1472-festa-del-ci
 occolato-artigianale
END:VEVENT
END:VCALENDAR
