BEGIN:VCALENDAR
VERSION:2.0
PRODID:-//https://discovercampania.com///NONSGML kigkonsult.se iCalcreator 2.10.15//
METHOD:PUBLISH
BEGIN:VEVENT
UID:20260421T190738CEST-6128G1BHEu@https://discovercampania.com/
DTSTAMP:20260421T170738Z
DESCRIPTION:&nbsp\;Dal 12 ottobre al 10 novembre 2024 il parco di Licola si
  trasforma in un parco a tema horror per un mese\, offrendo una serie di s
 paventose attrazioni e giochi divertenti per tutte le età.\nBiglietti: Ing
 resso a 7€ per tutte le aree gratuite\; biglietti aggiuntivi per attrazion
 i speciali\nPh AcquaFlash – Horror World - Facebook https://discovercampan
 ia.com/en/events-calendar/event/1479-horrorworld-2024
DTSTART:20241022T091200Z
DTEND:20241103T121200Z
LOCATION:Via Masseria Vecchia\, 54\, 80014 Giugliano in Campania NA\, Itali
 a (Via Masseria Vecchia\, 54\, 80014 Giugliano in Campania NA\, Italia)
SUMMARY:HorrorWorld 2024
URL:https://discovercampania.com/en/events-calendar/event/1479-horrorworld-
 2024
END:VEVENT
END:VCALENDAR
