BEGIN:VCALENDAR
VERSION:2.0
PRODID:-//https://discovercampania.com///NONSGML kigkonsult.se iCalcreator 2.10.15//
METHOD:PUBLISH
BEGIN:VEVENT
UID:20260421T190950CEST-7951mTkcBd@https://discovercampania.com/
DTSTAMP:20260421T170950Z
DESCRIPTION:La casa che ascolta il Vento\nOre 11.00/12.30\nPer i bambini da
 i nove agli undici anni\, si parlerà di architettura in modo divertente e 
 interessante partendo dal vento per approdare ad una casa accogliente in a
 rmonia con l’ambiente https://discovercampania.com/en/events-calendar/even
 t/801-laboratori-di-architettura-per-bambini
DTSTART:20211106T100000Z
DTEND:20211106T113000Z
LOCATION:Museo di Capodimonte – Via Miano 2 (Via Miano\, 2\, 80131 Napoli N
 A\, Italia)
SUMMARY:Laboratori di architettura per bambini
URL:https://discovercampania.com/en/events-calendar/event/801-laboratori-di
 -architettura-per-bambini
END:VEVENT
END:VCALENDAR
