BEGIN:VCALENDAR
VERSION:2.0
PRODID:-//https://discovercampania.com///NONSGML kigkonsult.se iCalcreator 2.10.15//
METHOD:PUBLISH
BEGIN:VEVENT
UID:20260421T185303CEST-8751D6eUOH@https://discovercampania.com/
DTSTAMP:20260421T165303Z
DESCRIPTION:Mostra fotografica dedicata al campione argentino con immagini 
 tratte dalla serie biografica recentemente pubblicata https://discovercamp
 ania.com/en/events-calendar/event/803-maradona-sogno-benedetto
DTSTART:20211023T083000Z
DTEND:20211109T193000Z
LOCATION:Stazione centrale di Napoli – Galleria Garibaldi (Napoli Centrale\
 , P.za Giuseppe Garibaldi\, 80142 Napoli NA\, Italia)
SUMMARY:Maradona: Sogno Benedetto
URL:https://discovercampania.com/en/events-calendar/event/803-maradona-sogn
 o-benedetto
END:VEVENT
END:VCALENDAR
