BEGIN:VCALENDAR
VERSION:2.0
PRODID:-//https://discovercampania.com///NONSGML kigkonsult.se iCalcreator 2.10.15//
METHOD:PUBLISH
BEGIN:VEVENT
UID:20260421T172250CEST-6852LJbXru@https://discovercampania.com/
DTSTAMP:20260421T152250Z
DESCRIPTION:\nPer celebrare il vino nuovo\, degustazione per il pubblico de
 i caratteristici arrosticini\, caciocavallo\, castagne\, zeppole e\, ovvia
 mente\, vino\, con accompagnamento della musica di Daniele Botticchio\n ht
 tps://discovercampania.com/en/events-calendar/event/806-festa-di-san-marti
 no
DTSTART:20211112T170000Z
DTEND:20211112T192800Z
LOCATION:Montecorice (84060 Montecorice SA\, Italia)
SUMMARY:Festa di San Martino
URL:https://discovercampania.com/en/events-calendar/event/806-festa-di-san-
 martino
END:VEVENT
END:VCALENDAR
