BEGIN:VCALENDAR
VERSION:2.0
PRODID:-//https://discovercampania.com///NONSGML kigkonsult.se iCalcreator 2.10.15//
METHOD:PUBLISH
BEGIN:VEVENT
UID:20260421T192906CEST-7984SEjSOj@https://discovercampania.com/
DTSTAMP:20260421T172906Z
DESCRIPTION:Torna il classico appuntamento della Festa di San Martino. http
 s://discovercampania.com/en/events-calendar/event/811-san-martino-pizza-co
 n-alici-e-vino
DTSTART:20211113T190000Z
DTEND:20211113T220000Z
LOCATION:Fragneto l’Abate (82020 Fragneto L'abate BN\, Italia)
SUMMARY:San Martino Pizza con Alici e Vino
URL:https://discovercampania.com/en/events-calendar/event/811-san-martino-p
 izza-con-alici-e-vino
END:VEVENT
END:VCALENDAR
